{"text_format":"2","workbook":"xlsx","n_sheets":5,"sheets":["Beschrieb","SpPlan","Auswertung","Endstand","Punktgleichheit 5M"],"not_rendered":{"charts":0,"images":8,"macros":0,"external_links":0,"defined_names":2,"comments":0,"pivot_tables":0},"unopened":[],"bounds":{"document_bytes":16777216,"sheet_cells":100000,"run_cost":"one","rows_first":2000,"rows_last":500,"rows_between":2000,"halvings":0,"cell_chars":16384,"cell_head_chars":4096},"cells_cut":0,"cells_raw":0,"read":"whole","date_system":"1900"}

{"sheet":"Beschrieb","index":0,"n_rows":33,"n_cols":7,"rows_kept":33,"cut":false,"hidden":false,"merged":[[14,6,14,8],[15,6,15,8],[21,0,21,2],[22,0,22,2],[13,6,13,8],[14,2,14,4],[15,2,15,4],[17,6,17,8],[19,6,19,8],[20,6,20,8],[21,6,21,8],[22,6,22,8],[0,0,0,1],[10,2,10,4],[11,2,11,4],[12,2,12,4],[13,2,13,4],[1,2,1,6],[0,2,0,6],[10,6,10,8],[11,6,11,8],[12,6,12,8],[32,0,32,2],[18,0,18,2],[24,0,24,2],[29,0,29,2],[30,0,30,2],[31,0,31,2],[26,0,26,2],[23,6,23,8],[24,6,24,8],[20,0,20,2],[25,0,25,2],[28,0,28,2],[23,0,23,2]]}
["Titel:",null,"19. Deutsche Meisterschaft im Faustball (Halle)"]
[null,null,"vom 26 bis 27 Mai 2017 in Weiden LV Bayern"]
[]
["Teilnehmer:",null,"5 Teilnehmer (mit Vor- und Rückspiele)"]
[]
[null,1,"VRB Brakel",5,"BVS Weiden II"]
[null,2,"BVS Weiden I",6]
[null,3,"BSG Offenburg",7]
[null,4,"SpG Reutlingen/Hemsbach",8]
[]
["Schiedsrichter:",1,"Manfred Dix"]
[null,2,"Jens Woydack"]
[]
[]
[]
[]
[]
[{"$nulls":6},"DBS-Klassifizierer für Faustball:"]
["DBS-Beauftragter "]
[{"$nulls":6},"Dr. Hans-Georg Zahner"]
["Sigismund Patzer",{"$nulls":5},"Kirchenstrasse 19"]
["Reinerzer Ring 82",{"$nulls":5},"92665 Altenstadt"]
["58511 Lüdenscheid",{"$nulls":5},"Tel.: 09602 - 91242"]
["Tel.: 02351 - 458875",{"$nulls":5},"Hans-Georg.Zahner@gmx.de"]
["Patzer-Prellball-dbs@t-onlinde.de"]
[{"$nulls":6},"DBS-Logo:"]
["Turnierpaln und Auswertung:"]
[]
["Nina Woydack"]
["Pausstr. 106"]
["45357 Essen"]
["Tel:   0201 / 56420299"]
["nina.woydack@gmx.de"]

{"sheet":"SpPlan","index":1,"n_rows":59,"n_cols":31,"rows_kept":59,"cut":false,"hidden":false,"merged":[[46,19,46,23],[31,4,31,22],[27,28,27,30],[31,28,31,30],[35,28,35,30],[41,4,41,9],[41,11,41,16],[41,17,41,22],[41,23,41,26],[42,4,42,9],[42,11,42,16],[42,17,42,22],[42,23,42,26],[36,4,36,9],[36,11,36,16],[37,17,37,22],[37,23,37,26],[36,17,36,22],[40,4,40,9],[40,11,40,16],[34,23,34,26],[39,4,39,9],[40,17,40,22],[40,23,40,26],[39,11,39,16],[39,17,39,22],[39,23,39,26],[38,4,38,9],[38,11,38,16],[26,23,26,26],[37,4,37,9],[37,11,37,16],[38,23,38,26],[33,4,33,9],[33,11,33,16],[36,23,36,26],[34,4,34,9],[34,11,34,16],[34,17,34,22],[30,23,30,26],[30,17,30,22],[33,17,33,22],[33,23,33,26],[28,17,28,22],[17,23,18,26],[38,17,38,22],[32,4,32,9],[32,11,32,16],[32,17,32,22],[32,23,32,26],[29,4,29,9],[29,11,29,16],[29,23,29,26],[22,11,22,16],[23,11,23,16],[22,4,22,9],[30,4,30,9],[30,11,30,16],[29,17,29,22],[14,22,14,29],[15,22,15,29],[20,17,20,22],[28,4,28,9],[25,11,25,16],[26,11,26,16],[28,11,28,16],[17,28,18,30],[20,23,20,26],[20,11,20,16],[17,17,18,22],[28,23,28,26],[23,4,23,9],[24,4,24,9],[23,17,23,22],[26,17,26,22],[25,4,25,9],[26,4,26,9],[21,11,21,16],[21,17,21,22],[21,23,21,26],[22,23,22,26],[23,23,23,26],[24,17,24,22],[17,2,18,2],[13,10,13,14],[14,10,14,14],[13,4,13,8],[14,4,14,8],[13,16,13,21],[14,16,14,21],[35,4,35,26],[1,0,2,22],[3,0,3,22],[17,0,18,0],[27,4,27,22],[13,22,13,29],[5,0,5,20],[20,4,20,9],[21,4,21,9],[12,3,12,21],[12,22,12,29],[25,17,25,22],[24,23,24,26],[25,23,25,26],[17,4,18,16],[22,17,22,22],[24,11,24,16]]}
[]
[{"$f":"Beschrieb!C1","v":"19. Deutsche Meisterschaft im Faustball (Halle)"}]
[]
[{"$f":"Beschrieb!C2","v":"vom 26 bis 27 Mai 2017 in Weiden LV Bayern"}]
[]
[{"$f":"Beschrieb!C4","v":"5 Teilnehmer (mit Vor- und Rückspiele)"}]
[]
[]
[]
[]
[]
[]
[null,null,null,"Teilnehmer:",{"$nulls":18},"Schiedsrichter:"]
[null,null,null,"1.",{"$f":"Beschrieb!C6","v":"VRB Brakel"},{"$nulls":4},"3.",{"$f":"Beschrieb!C8","v":"BSG Offenburg"},{"$nulls":4},"5.",{"$f":"Beschrieb!E6","v":"BVS Weiden II"},{"$nulls":5},{"$f":"Beschrieb!C11","v":"Manfred Dix"}]
[null,null,null,"2.",{"$f":"Beschrieb!C7","v":"BVS Weiden I"},{"$nulls":4},"4.",{"$f":"Beschrieb!C9","v":"SpG Reutlingen/Hemsbach"},{"$nulls":11},{"$f":"Beschrieb!C12","v":"Jens Woydack"}]
[]
[]
["Spiel-Nr.:",null,"Zeit:",null,"Mannschaften:",{"$nulls":12},"Linienrichter",{"$nulls":5},"Schiedsrichter",{"$nulls":4},"Ergebnis:"]
[]
[]
[1,null,"14:30:00",null,{"$f":"E15","v":"BVS Weiden I"},{"$nulls":5},":",{"$f":"Q14","v":"BVS Weiden II"},{"$nulls":5},{"$f":"K14","v":"BSG Offenburg"},{"$nulls":5},{"$f":"W14","v":"Manfred Dix"},{"$nulls":4},15,":",13]
[2,null,"15:00:00",null,{"$f":"E14","v":"VRB Brakel"},{"$nulls":5},":",{"$f":"K15","v":"SpG Reutlingen/Hemsbach"},{"$nulls":5},{"$f":"E15","v":"BVS Weiden I"},{"$nulls":5},{"$f":"W15","v":"Jens Woydack"},{"$nulls":4},17,":",25]
[3,null,"15:30:00",null,{"$f":"K14","v":"BSG Offenburg"},{"$nulls":5},":",{"$f":"Q14","v":"BVS Weiden II"},{"$nulls":5},{"$f":"E14","v":"VRB Brakel"},{"$nulls":5},{"$f":"W14","v":"Manfred Dix"},{"$nulls":4},28,":",11]
[4,null,"16:00:00",null,{"$f":"E15","v":"BVS Weiden I"},{"$nulls":5},":",{"$f":"K15","v":"SpG Reutlingen/Hemsbach"},{"$nulls":5},{"$f":"Q14","v":"BVS Weiden II"},{"$nulls":5},{"$f":"W15","v":"Jens Woydack"},{"$nulls":4},12,":",22]
[5,null,"16:30:00",null,{"$f":"E14","v":"VRB Brakel"},{"$nulls":5},":",{"$f":"K14","v":"BSG Offenburg"},{"$nulls":5},{"$f":"K15","v":"SpG Reutlingen/Hemsbach"},{"$nulls":5},{"$f":"W14","v":"Manfred Dix"},{"$nulls":4},13,":",24]
[6,null,"17:00:00",null,{"$f":"K15","v":"SpG Reutlingen/Hemsbach"},{"$nulls":5},":",{"$f":"Q14","v":"BVS Weiden II"},{"$nulls":5},{"$f":"E14","v":"VRB Brakel"},{"$nulls":5},{"$f":"W15","v":"Jens Woydack"},{"$nulls":4},26,":",14]
[7,null,"17:30:00",null,{"$f":"E15","v":"BVS Weiden I"},{"$nulls":5},":",{"$f":"K14","v":"BSG Offenburg"},{"$nulls":5},{"$f":"K15","v":"SpG Reutlingen/Hemsbach"},{"$nulls":5},{"$f":"W14","v":"Manfred Dix"},{"$nulls":4},14,":",15]
[{"$nulls":4},"Unterbrechung der Spiele bis Samstag, 27. Mai 2017 9:30 Uhr"]
[8,null,"09:30",null,{"$f":"E14","v":"VRB Brakel"},{"$nulls":5},":",{"$f":"Q14","v":"BVS Weiden II"},{"$nulls":5},{"$f":"E15","v":"BVS Weiden I"},{"$nulls":5},{"$f":"W15","v":"Jens Woydack"},{"$nulls":4},24,":",8]
[9,null,"10:00",null,{"$f":"K14","v":"BSG Offenburg"},{"$nulls":5},":",{"$f":"K15","v":"SpG Reutlingen/Hemsbach"},{"$nulls":5},{"$f":"Q14","v":"BVS Weiden II"},{"$nulls":5},{"$f":"W14","v":"Manfred Dix"},{"$nulls":4},12,":",19]
[10,null,"10:30",null,{"$f":"E14","v":"VRB Brakel"},{"$nulls":5},":",{"$f":"E15","v":"BVS Weiden I"},{"$nulls":5},{"$f":"K14","v":"BSG Offenburg"},{"$nulls":5},{"$f":"W15","v":"Jens Woydack"},{"$nulls":4},10,":",18]
[{"$nulls":4},"Ende der Vorrunde: 15 Minuten Pause"]
[11,null,"11:15",null,{"$f":"Q14","v":"BVS Weiden II"},{"$nulls":5},":",{"$f":"E15","v":"BVS Weiden I"},{"$nulls":5},{"$f":"K14","v":"BSG Offenburg"},{"$nulls":5},{"$f":"W14","v":"Manfred Dix"},{"$nulls":4},11,":",19]
[12,null,"11:45",null,{"$f":"K15","v":"SpG Reutlingen/Hemsbach"},{"$nulls":5},":",{"$f":"E14","v":"VRB Brakel"},{"$nulls":5},{"$f":"E15","v":"BVS Weiden I"},{"$nulls":5},{"$f":"W15","v":"Jens Woydack"},{"$nulls":4},27,":",14]
[13,null,"12:15",null,{"$f":"Q14","v":"BVS Weiden II"},{"$nulls":5},":",{"$f":"K14","v":"BSG Offenburg"},{"$nulls":5},{"$f":"E14","v":"VRB Brakel"},{"$nulls":5},{"$f":"W14","v":"Manfred Dix"},{"$nulls":4},11,":",28]
[{"$nulls":4},"Mittagspause bis 13.15 Uhr"]
[14,null,"13:15",null,{"$f":"K15","v":"SpG Reutlingen/Hemsbach"},{"$nulls":5},":",{"$f":"E15","v":"BVS Weiden I"},{"$nulls":5},{"$f":"Q14","v":"BVS Weiden II"},{"$nulls":5},{"$f":"W15","v":"Jens Woydack"},{"$nulls":4},14,":",13]
[15,null,"13:45",null,{"$f":"K14","v":"BSG Offenburg"},{"$nulls":5},":",{"$f":"E14","v":"VRB Brakel"},{"$nulls":5},{"$f":"E15","v":"BVS Weiden I"},{"$nulls":5},{"$f":"W14","v":"Manfred Dix"},{"$nulls":4},23,":",13]
[16,null,"14:15",null,{"$f":"Q14","v":"BVS Weiden II"},{"$nulls":5},":",{"$f":"K15","v":"SpG Reutlingen/Hemsbach"},{"$nulls":5},{"$f":"E14","v":"VRB Brakel"},{"$nulls":5},{"$f":"W15","v":"Jens Woydack"},{"$nulls":4},12,":",26]
[17,null,"14:45",null,{"$f":"K14","v":"BSG Offenburg"},{"$nulls":5},":",{"$f":"E15","v":"BVS Weiden I"},{"$nulls":5},{"$f":"K15","v":"SpG Reutlingen/Hemsbach"},{"$nulls":5},{"$f":"W14","v":"Manfred Dix"},{"$nulls":4},18,":",11]
[18,null,"15:15",null,{"$f":"Q14","v":"BVS Weiden II"},{"$nulls":5},":",{"$f":"E14","v":"VRB Brakel"},{"$nulls":5},{"$f":"K14","v":"BSG Offenburg"},{"$nulls":5},{"$f":"W15","v":"Jens Woydack"},{"$nulls":4},13,":",20]
[19,null,"15:45",null,{"$f":"K15","v":"SpG Reutlingen/Hemsbach"},{"$nulls":5},":",{"$f":"K14","v":"BSG Offenburg"},{"$nulls":5},{"$f":"Q14","v":"BVS Weiden II"},{"$nulls":5},{"$f":"W14","v":"Manfred Dix"},{"$nulls":4},15,":",17]
[20,null,"16:15",null,{"$f":"E15","v":"BVS Weiden I"},{"$nulls":5},":",{"$f":"E14","v":"VRB Brakel"},{"$nulls":5},{"$f":"K15","v":"SpG Reutlingen/Hemsbach"},{"$nulls":5},{"$f":"W15","v":"Jens Woydack"},{"$nulls":4},21,":",15]
[]
[]
[null,null,"Zum Mitschreiben der eigenen Ergebnisse:"]
[{"$nulls":19},"Ergebniss:",{"$nulls":6},"Punkte"]
[null,null,"Eigene Mannschaft:",null,null,null,":",null,{"$f":"E14","v":"VRB Brakel"},{"$nulls":8},"=",null,null,null,":",{"$nulls":4},":"]
[null,null,"Eigene Mannschaft:",null,null,null,":",null,{"$f":"E15","v":"BVS Weiden I"},{"$nulls":8},"=",null,null,null,":",{"$nulls":4},":"]
[null,null,"Eigene Mannschaft:",null,null,null,":",null,{"$f":"K14","v":"BSG Offenburg"},{"$nulls":8},"=",null,null,null,":",{"$nulls":4},":"]
[null,null,"Eigene Mannschaft:",null,null,null,":",null,{"$f":"K15","v":"SpG Reutlingen/Hemsbach"},{"$nulls":8},"=",null,null,null,":",{"$nulls":4},":"]
[null,null,"Eigene Mannschaft:",null,null,null,":",null,{"$f":"Q14","v":"BVS Weiden II"},{"$nulls":8},"=",null,null,null,":",{"$nulls":4},":"]
[null,null,"Eigene Mannschaft:",null,null,null,":",null,{"$f":"Q14","v":"BVS Weiden II"},{"$nulls":8},"=",null,null,null,":",{"$nulls":4},":"]
[null,null,"Eigene Mannschaft:",null,null,null,":",null,{"$f":"K15","v":"SpG Reutlingen/Hemsbach"},{"$nulls":8},"=",null,null,null,":",{"$nulls":4},":"]
[null,null,"Eigene Mannschaft:",null,null,null,":",null,{"$f":"K14","v":"BSG Offenburg"},{"$nulls":8},"=",null,null,null,":",{"$nulls":4},":"]
[null,null,"Eigene Mannschaft:",null,null,null,":",null,{"$f":"E15","v":"BVS Weiden I"},{"$nulls":8},"=",null,null,null,":",{"$nulls":4},":"]
[null,null,"Eigene Mannschaft:",null,null,null,":",null,{"$f":"E14","v":"VRB Brakel"},{"$nulls":8},"=",null,null,null,":",{"$nulls":4},":"]
[{"$nulls":26},":"]
[{"$nulls":10},"Gesamtpunktzahl:",{"$nulls":6},"=",{"$nulls":8},":"]

{"sheet":"Auswertung","index":2,"n_rows":15,"n_cols":26,"rows_kept":15,"cut":false,"hidden":false,"merged":[[3,36,4,36],[3,40,4,40],[5,25,6,25],[6,22,6,23],[5,0,6,0],[2,2,3,3],[2,1,3,1],[5,1,6,1],[2,25,3,25],[3,22,3,23],[5,24,6,24],[15,0,15,25],[3,37,4,37],[3,38,4,38],[3,47,4,47],[3,45,4,45],[3,46,4,46],[3,31,4,31],[3,32,4,32],[3,33,4,33],[3,34,4,34],[3,41,4,41],[3,43,4,43],[3,44,4,44],[3,39,4,39],[3,42,4,42],[3,35,4,35],[11,0,12,0],[11,25,12,25],[12,22,12,23],[13,0,14,0],[13,25,14,25],[14,22,14,23],[11,1,12,1],[13,1,14,1],[13,24,14,24],[11,24,12,24],[7,0,8,0],[7,25,8,25],[8,22,8,23],[9,0,10,0],[9,25,10,25],[10,22,10,23],[7,1,8,1],[9,1,10,1],[7,24,8,24],[9,24,10,24],[0,0,0,25],[2,0,3,0],[2,4,3,5],[2,6,3,7],[2,16,3,17],[2,18,3,19],[2,20,3,21],[2,22,2,23],[2,24,3,24],[1,3,1,21],[1,22,1,25],[2,8,3,9],[2,10,3,11],[2,12,3,13],[2,14,3,15]]}
[]
[null,null,null,{"$f":"Beschrieb!$C$1","v":"19. Deutsche Meisterschaft im Faustball (Halle)"}]
["Vereine","Mannschaften",{"$f":"Beschrieb!C6","v":"VRB Brakel"},null,{"$f":"Beschrieb!C7","v":"BVS Weiden I"},null,{"$f":"Beschrieb!C8","v":"BSG Offenburg"},null,{"$f":"Beschrieb!C9","v":"SpG Reutlingen/Hemsbach"},null,{"$f":"Beschrieb!E6","v":"BVS Weiden II"},null,{"$f":"Beschrieb!C6","v":"VRB Brakel"},null,{"$f":"Beschrieb!C7","v":"BVS Weiden I"},null,{"$f":"Beschrieb!C8","v":"BSG Offenburg"},null,{"$f":"Beschrieb!C9","v":"SpG Reutlingen/Hemsbach"},null,{"$f":"Beschrieb!E6","v":"BVS Weiden II"},null,"Treffer",null,"Punkte:","Platz"]
[{"$nulls":22},"Punkte"]
[null,null,"+","-"," ","-","+","-","+","-","+","-","+","-","+","-","+","-","+","-","+","-","+","-"]
[null,{"$f":"Beschrieb!C6","v":"VRB Brakel"},null,null,{"$f":"SpPlan!AC31","v":10},{"$f":"SpPlan!AE31","v":18},{"$f":"SpPlan!AC25","v":13},{"$f":"SpPlan!AE25","v":24},{"$f":"SpPlan!AC22","v":17},{"$f":"SpPlan!AE22","v":25},{"$f":"SpPlan!AC29","v":24},{"$f":"SpPlan!AE29","v":8},null,null,{"$f":"SpPlan!AE43","v":15},{"$f":"SpPlan!AC43","v":21},{"$f":"SpPlan!AE38","v":13},{"$f":"SpPlan!AC38","v":23},{"$f":"SpPlan!AE34","v":14},{"$f":"SpPlan!AC34","v":27},{"$f":"SpPlan!AE41","v":20},{"$f":"SpPlan!AC41","v":13},{"$f":"SUM(C6+E6+G6+I6+K6+M6+O6+Q6+S6+U6)","v":126},{"$f":"SUM(D6+F6+H6+J6+L6+N6+P6+R6+T6+V6)","v":159},{"$f":"SUM(W7)","v":4},4]
[{"$nulls":4},{"$f":"IF(E6>F6,2,IF(E6+F6=0,0,IF(E6=F6,1,0)))","v":0},{"$f":"IF(E6<F6,2,IF(E6+F6=0,0,IF(E6=F6,1,0)))","v":2},{"$f":"IF(G6>H6,2,IF(G6+H6=0,0,IF(G6=H6,1,0)))","v":0},{"$f":"IF(G6<H6,2,IF(G6+H6=0,0,IF(G6=H6,1,0)))","v":2},{"$f":"IF(I6>J6,2,IF(I6+J6=0,0,IF(I6=J6,1,0)))","v":0},{"$f":"IF(I6<J6,2,IF(I6+J6=0,0,IF(I6=J6,1,0)))","v":2},{"$f":"IF(K6>L6,2,IF(K6+L6=0,0,IF(K6=L6,1,0)))","v":2},{"$f":"IF(K6<L6,2,IF(K6+L6=0,0,IF(K6=L6,1,0)))","v":0},null,null,{"$f":"IF(O6>P6,2,IF(O6+P6=0,0,IF(O6=P6,1,0)))","v":0},{"$f":"IF(O6<P6,2,IF(O6+P6=0,0,IF(O6=P6,1,0)))","v":2},{"$f":"IF(Q6>R6,2,IF(Q6+R6=0,0,IF(Q6=R6,1,0)))","v":0},{"$f":"IF(Q6<R6,2,IF(Q6+R6=0,0,IF(Q6=R6,1,0)))","v":2},{"$f":"IF(S6>T6,2,IF(S6+T6=0,0,IF(S6=T6,1,0)))","v":0},{"$f":"IF(S6<T6,2,IF(S6+T6=0,0,IF(S6=T6,1,0)))","v":2},{"$f":"IF(U6>V6,2,IF(U6+V6=0,0,IF(U6=V6,1,0)))","v":2},{"$f":"IF(U6<V6,2,IF(U6+V6=0,0,IF(U6=V6,1,0)))","v":0},{"$f":"SUM(C7+E7+G7+I7+K7+M7+O7+Q7+S7+U7)","v":4}]
[null,{"$f":"Beschrieb!C7","v":"BVS Weiden I"},{"$f":"SpPlan!AE31","v":18},{"$f":"SpPlan!AC31","v":10},null,null,{"$f":"SpPlan!AC27","v":14},{"$f":"SpPlan!AE27","v":15},{"$f":"SpPlan!AC24","v":12},{"$f":"SpPlan!AE24","v":22},{"$f":"SpPlan!AC21","v":15},{"$f":"SpPlan!AE21","v":13},{"$f":"SpPlan!AC43","v":21},{"$f":"SpPlan!AE43","v":15},null,null,{"$f":"SpPlan!AE40","v":11},{"$f":"SpPlan!AC40","v":18},{"$f":"SpPlan!AE37","v":13},{"$f":"SpPlan!AC37","v":14},{"$f":"SpPlan!AE33","v":19},{"$f":"SpPlan!AC33","v":11},{"$f":"SUM(C8+E8+G8+I8+K8+M8+O8+Q8+S8+U8)","v":123},{"$f":"SUM(D8+F8+H8+J8+L8+N8+P8+R8+T8+V8)","v":118},{"$f":"SUM(W9)","v":8},3]
[null,null,{"$f":"IF(C8>D8,2,IF(C8+D8=0,0,IF(C8=D8,1,0)))","v":2},{"$f":"IF(C8<D8,2,IF(C8+D8=0,0,IF(C8=D8,1,0)))","v":0},null,null,{"$f":"IF(G8>H8,2,IF(G8+H8=0,0,IF(G8=H8,1,0)))","v":0},{"$f":"IF(G8<H8,2,IF(G8+H8=0,0,IF(G8=H8,1,0)))","v":2},{"$f":"IF(I8>J8,2,IF(I8+J8=0,0,IF(I8=J8,1,0)))","v":0},{"$f":"IF(I8<J8,2,IF(I8+J8=0,0,IF(I8=J8,1,0)))","v":2},{"$f":"IF(K8>L8,2,IF(K8+L8=0,0,IF(K8=L8,1,0)))","v":2},{"$f":"IF(K8<L8,2,IF(K8+L8=0,0,IF(K8=L8,1,0)))","v":0},{"$f":"IF(M8>N8,2,IF(M8+N8=0,0,IF(M8=N8,1,0)))","v":2},{"$f":"IF(M8<N8,2,IF(M8+N8=0,0,IF(M8=N8,1,0)))","v":0},null,null,{"$f":"IF(Q8>R8,2,IF(Q8+R8=0,0,IF(Q8=R8,1,0)))","v":0},{"$f":"IF(Q8<R8,2,IF(Q8+R8=0,0,IF(Q8=R8,1,0)))","v":2},{"$f":"IF(S8>T8,2,IF(S8+T8=0,0,IF(S8=T8,1,0)))","v":0},{"$f":"IF(S8<T8,2,IF(S8+T8=0,0,IF(S8=T8,1,0)))","v":2},{"$f":"IF(U8>V8,2,IF(U8+V8=0,0,IF(U8=V8,1,0)))","v":2},{"$f":"IF(U8<V8,2,IF(U8+V8=0,0,IF(U8=V8,1,0)))","v":0},8]
[null,{"$f":"Beschrieb!C8","v":"BSG Offenburg"},{"$f":"SpPlan!AE25","v":24},{"$f":"SpPlan!AC25","v":13},{"$f":"SpPlan!AE27","v":15},{"$f":"SpPlan!AC27","v":14},null,null,{"$f":"SpPlan!AC30","v":12},{"$f":"SpPlan!AE30","v":19},{"$f":"SpPlan!AC23","v":28},{"$f":"SpPlan!AE23","v":11},{"$f":"SpPlan!AC38","v":23},{"$f":"SpPlan!AE38","v":13},{"$f":"SpPlan!AC40","v":18},{"$f":"SpPlan!AE40","v":11},null,null,{"$f":"SpPlan!AE42","v":17},{"$f":"SpPlan!AC42","v":15},{"$f":"SpPlan!AE35","v":28},{"$f":"SpPlan!AC35","v":11},165,{"$f":"SUM(D10+F10+H10+J10+L10+N10+P10+R10+T10+V10)","v":107},{"$f":"SUM(W11)","v":14},2]
[null,null,{"$f":"IF(C10>D10,2,IF(C10+D10=0,0,IF(C10=D10,1,0)))","v":2},{"$f":"IF(C10<D10,2,IF(C10+D10=0,0,IF(C10=D10,1,0)))","v":0},{"$f":"IF(E10>F10,2,IF(E10+F10=0,0,IF(E10=F10,1,0)))","v":2},{"$f":"IF(E10<F10,2,IF(E10+F10=0,0,IF(E10=F10,1,0)))","v":0},null,null,{"$f":"IF(I10>J10,2,IF(I10+J10=0,0,IF(I10=J10,1,0)))","v":0},{"$f":"IF(I10<J10,2,IF(I10+J10=0,0,IF(I10=J10,1,0)))","v":2},{"$f":"IF(K10>L10,2,IF(K10+L10=0,0,IF(K10=L10,1,0)))","v":2},{"$f":"IF(K10<L10,2,IF(K10+L10=0,0,IF(K10=L10,1,0)))","v":0},{"$f":"IF(M10>N10,2,IF(M10+N10=0,0,IF(M10=N10,1,0)))","v":2},{"$f":"IF(M10<N10,2,IF(M10+N10=0,0,IF(M10=N10,1,0)))","v":0},{"$f":"IF(O10>P10,2,IF(O10+P10=0,0,IF(O10=P10,1,0)))","v":2},{"$f":"IF(O10<P10,2,IF(O10+P10=0,0,IF(O10=P10,1,0)))","v":0},null,null,{"$f":"IF(S10>T10,2,IF(S10+T10=0,0,IF(S10=T10,1,0)))","v":2},{"$f":"IF(S10<T10,2,IF(S10+T10=0,0,IF(S10=T10,1,0)))","v":0},{"$f":"IF(U10>V10,2,IF(U10+V10=0,0,IF(U10=V10,1,0)))","v":2},{"$f":"IF(U10<V10,2,IF(U10+V10=0,0,IF(U10=V10,1,0)))","v":0},14]
[null,{"$f":"Beschrieb!C9","v":"SpG Reutlingen/Hemsbach"},{"$f":"SpPlan!AE22","v":25},{"$f":"SpPlan!AC22","v":17},{"$f":"SpPlan!AE24","v":22},{"$f":"SpPlan!AC24","v":12},{"$f":"SpPlan!AE30","v":19},{"$f":"SpPlan!AC30","v":12},null,null,{"$f":"SpPlan!AC26","v":26},{"$f":"SpPlan!AE26","v":14},{"$f":"SpPlan!AC34","v":27},{"$f":"SpPlan!AE34","v":14},{"$f":"SpPlan!AC37","v":14},{"$f":"SpPlan!AE37","v":13},{"$f":"SpPlan!AC42","v":15},{"$f":"SpPlan!AE42","v":17},null,null,{"$f":"SpPlan!AE39","v":26},{"$f":"SpPlan!AC39","v":12},174,{"$f":"SUM(D12+F12+H12+J12+L12+N12+P12+R12+T12+V12)","v":111},{"$f":"SUM(W13)","v":14},1]
[null,null,{"$f":"IF(C12>D12,2,IF(C12+D12=0,0,IF(C12=D12,1,0)))","v":2},{"$f":"IF(C12<D12,2,IF(C12+D12=0,0,IF(C12=D12,1,0)))","v":0},{"$f":"IF(E12>F12,2,IF(E12+F12=0,0,IF(E12=F12,1,0)))","v":2},{"$f":"IF(E12<F12,2,IF(E12+F12=0,0,IF(E12=F12,1,0)))","v":0},{"$f":"IF(G12>H12,2,IF(G12+H12=0,0,IF(G12=H12,1,0)))","v":2},{"$f":"IF(G12<H12,2,IF(G12+H12=0,0,IF(G12=H12,1,0)))","v":0},null,null,{"$f":"IF(K12>L12,2,IF(K12+L12=0,0,IF(K12=L12,1,0)))","v":2},{"$f":"IF(K12<L12,2,IF(K12+L12=0,0,IF(K12=L12,1,0)))","v":0},{"$f":"IF(M12>N12,2,IF(M12+N12=0,0,IF(M12=N12,1,0)))","v":2},{"$f":"IF(M12<N12,2,IF(M12+N12=0,0,IF(M12=N12,1,0)))","v":0},{"$f":"IF(O12>P12,2,IF(O12+P12=0,0,IF(O12=P12,1,0)))","v":2},{"$f":"IF(O12<P12,2,IF(O12+P12=0,0,IF(O12=P12,1,0)))","v":0},{"$f":"IF(Q12>R12,2,IF(Q12+R12=0,0,IF(Q12=R12,1,0)))","v":0},{"$f":"IF(Q12<R12,2,IF(Q12+R12=0,0,IF(Q12=R12,1,0)))","v":2},null,null,{"$f":"IF(U12>V12,2,IF(U12+V12=0,0,IF(U12=V12,1,0)))","v":2},{"$f":"IF(U12<V12,2,IF(U12+V12=0,0,IF(U12=V12,1,0)))","v":0},14]
[null,{"$f":"Beschrieb!E6","v":"BVS Weiden II"},{"$f":"SpPlan!AE29","v":8},{"$f":"SpPlan!AC29","v":24},{"$f":"SpPlan!AE21","v":13},{"$f":"SpPlan!AC21","v":15},{"$f":"SpPlan!AE23","v":11},{"$f":"SpPlan!AC23","v":28},{"$f":"SpPlan!AE26","v":14},{"$f":"SpPlan!AC26","v":26},null,null,{"$f":"SpPlan!AC41","v":13},{"$f":"SpPlan!AE41","v":20},{"$f":"SpPlan!AC33","v":11},{"$f":"SpPlan!AE33","v":19},{"$f":"SpPlan!AC35","v":11},{"$f":"SpPlan!AE35","v":28},{"$f":"SpPlan!AC39","v":12},{"$f":"SpPlan!AE39","v":26},null,null,93,{"$f":"SUM(D14+F14+H14+J14+L14+N14+P14+R14+T14+V14)","v":186},{"$f":"SUM(W15)","v":0},5]
[null,null,{"$f":"IF(C14>D14,2,IF(C14+D14=0,0,IF(C14=D14,1,0)))","v":0},{"$f":"IF(C14<D14,2,IF(C14+D14=0,0,IF(C14=D14,1,0)))","v":2},{"$f":"IF(E14>F14,2,IF(E14+F14=0,0,IF(E14=F14,1,0)))","v":0},{"$f":"IF(E14<F14,2,IF(E14+F14=0,0,IF(E14=F14,1,0)))","v":2},{"$f":"IF(G14>H14,2,IF(G14+H14=0,0,IF(G14=H14,1,0)))","v":0},{"$f":"IF(G14<H14,2,IF(G14+H14=0,0,IF(G14=H14,1,0)))","v":2},{"$f":"IF(I14>J14,2,IF(I14+J14=0,0,IF(I14=J14,1,0)))","v":0},{"$f":"IF(I14<J14,2,IF(I14+J14=0,0,IF(I14=J14,1,0)))","v":2},null,null,{"$f":"IF(M14>N14,2,IF(M14+N14=0,0,IF(M14=N14,1,0)))","v":0},{"$f":"IF(M14<N14,2,IF(M14+N14=0,0,IF(M14=N14,1,0)))","v":2},{"$f":"IF(O14>P14,2,IF(O14+P14=0,0,IF(O14=P14,1,0)))","v":0},{"$f":"IF(O14<P14,2,IF(O14+P14=0,0,IF(O14=P14,1,0)))","v":2},{"$f":"IF(Q14>R14,2,IF(Q14+R14=0,0,IF(Q14=R14,1,0)))","v":0},{"$f":"IF(Q14<R14,2,IF(Q14+R14=0,0,IF(Q14=R14,1,0)))","v":2},{"$f":"IF(S14>T14,2,IF(S14+T14=0,0,IF(S14=T14,1,0)))","v":0},{"$f":"IF(S14<T14,2,IF(S14+T14=0,0,IF(S14=T14,1,0)))","v":2},null,null,0]

{"sheet":"Endstand","index":3,"n_rows":43,"n_cols":11,"rows_kept":43,"cut":false,"hidden":false,"merged":[[20,10,20,11],[31,10,31,11],[0,0,0,8],[3,0,4,8],[5,0,6,8],[29,2,29,3],[14,0,14,10],[16,2,16,3],[1,0,1,8],[16,4,16,6],[18,10,18,11],[33,10,33,11],[22,10,22,11],[33,2,33,3],[24,10,24,11],[29,4,29,8],[31,4,31,8],[33,4,33,8],[31,2,31,3],[26,10,26,11],[29,10,29,11]]}
["Deutscher Behindertensportverband e.V."]
["Abteilung Nationale Spiele"]
[]
[{"$f":"Beschrieb!C1","v":"19. Deutsche Meisterschaft im Faustball (Halle)"}]
[]
[{"$f":"Beschrieb!C2","v":"vom 26 bis 27 Mai 2017 in Weiden LV Bayern"}]
{"$rows_empty":8}
["Endstand:"]
[]
["Platz",null,"Mannschaft",null,"Landesverband",{"$nulls":5},"Punkte"]
[]
[1,null,"SpG Reutlingen/Hemsbach",null,"Württemberg",{"$nulls":5},14]
[]
[2,null,"BSG Offenburg",null,"Baden",{"$nulls":5},14]
[]
[3,null,"BVS Weiden I",null,"Bayern",{"$nulls":5},8]
[]
[4,null,"VRB Brakel",null,"Nordrhein-Westfalen",{"$nulls":5},4]
[]
[5,null,"BVS Weiden II",null,"Bayern",{"$nulls":5},0]
{"$rows_empty":9}
[null,null,"Spielplan u. Turnierauswertung",null,null,{"$f":"Beschrieb!A19","v":"DBS-Beauftragter "},null,null,null,"DBS-Klassifizierer "]
[]
[null,null,{"$f":"Beschrieb!A29","v":"Nina Woydack"},null,null,{"$f":"Beschrieb!A21","v":"Sigismund Patzer"},null,null,null,"Dr. Hans-Georg Zahner"]
[null,null,{"$f":"Beschrieb!A30","v":"Pausstr. 106"},null,null,{"$f":"Beschrieb!A22","v":"Reinerzer Ring 82"},null,null,null,"Kirchenstrasse 19"]
[null,null,{"$f":"Beschrieb!A31","v":"45357 Essen"},null,null,{"$f":"Beschrieb!A23","v":"58511 Lüdenscheid"},null,null,null,"92665 Altenstadt"]
[null,null,{"$f":"Beschrieb!A32","v":"Tel:   0201 / 56420299"},null,null,{"$f":"Beschrieb!A24","v":"Tel.: 02351 - 458875"},null,null,null,"Tel.: 09602 - 91242"]
[null,null,{"$f":"Beschrieb!A33","v":"nina.woydack@gmx.de"},null,null,{"$f":"Beschrieb!A25","v":"Patzer-Prellball-dbs@t-onlinde.de"},null,null,null,"Hans-Georg.Zahner@gmx.de"]

{"sheet":"Punktgleichheit 5M","index":4,"n_rows":60,"n_cols":12,"rows_kept":60,"cut":false,"hidden":false,"merged":[[8,1,8,10],[10,1,12,10],[0,1,1,8],[3,1,4,10],[6,1,6,10],[24,7,24,10],[16,7,16,10],[18,7,18,10],[20,7,20,10],[22,7,22,10]]}
[null,"Nach DBS - Regelung (Nr. 8; 8.1 bis 8.1.5)"]
[]
[]
["1).","Bei punkt- und treffergleichen Mannschaften nimmt die Mannschaft den letzten Platz in der Gruppe ein, die einen Spielabbruch verursacht hat."]
[]
[]
["2.)","das bessere Punktverhältnis aus den Spielen der punktgleichen Mannschaften"]
[]
["3). ","das bessere Trefferverhältnis aus den Spielen der punktgleichen Mannschaften"]
[]
["4).","Entscheidungsspiel der treffergleichen Mannschaften. Endet das Spiel wieder unentschieden, wird bis zu einer Differenz von 2 Treffern unter der Beachtung der Spielregel 2.5 weiter gespielt."]
[]
[]
[]
[null,"Auswertung:"]
[]
[null,"Punktgleiche Mannschaften:",null,null,null,"1."]
[]
[{"$nulls":5},"2."]
[]
[{"$nulls":5},"3."]
[]
[{"$nulls":5},"4."]
[]
[{"$nulls":5},"5."]
[]
[null,"Mannschaften:",null,null,"Ergebnis:",null,null,"Punkte"]
[]
[null,{"$f":"H17","v":0},":",{"$f":"H19","v":0},null,":",null,{"$f":"IF(E29>G29,2,IF(G29+E29=0,0,IF(E29=G29,1,0)))","v":0},":",{"$f":"IF(G29>E29,2,IF(E29+G29=0,0,IF(G29=E29,1,0)))","v":0}]
[null,{"$f":"H17","v":0},":",{"$f":"H21","v":0},null,":",null,0,":",0]
[null,{"$f":"H17","v":0},":",{"$f":"H23","v":0},null,":",null,0,":",0,"Punkte:","Treffer:"]
[null,{"$f":"H17","v":0},":",{"$f":"H25","v":0},null,":",null,0,":",0,{"$f":"(H29+H30+H31+H32)-(J29+J30+J31+J32)","v":0},{"$f":"(E29-G29)+(E30-G30)+(E31-G31)+(E32-G32)","v":0}]
[null,{"$f":"H19","v":0},":",{"$f":"H17","v":0},{"$f":"G29","v":0},":",{"$f":"E29","v":0},0,":",0]
[null,{"$f":"H19","v":0},":",{"$f":"H21","v":0},null,":",null,0,":",0]
[null,{"$f":"H19","v":0},":",{"$f":"H23","v":0},null,":",null,0,":",0]
[null,{"$f":"H19","v":0},":",{"$f":"H25","v":0},null,":",null,0,null,0,{"$f":"(H33+H34+H35+H36)-(J33+J34+J35+J36)","v":0},{"$f":"(E33-G33)+(E34-G34)+(E35-G35)+(E36-G36)","v":0}]
[null,{"$f":"H21","v":0},":",{"$f":"H17","v":0},{"$f":"G30","v":0},":",{"$f":"E30","v":0},0,":",0]
[null,{"$f":"H21","v":0},":",{"$f":"H19","v":0},{"$f":"G34","v":0},":",{"$f":"E34","v":0},0,":",0]
[null,{"$f":"H21","v":0},null,{"$f":"H23","v":0},null,null,null,0,null,0]
[null,{"$f":"H21","v":0},null,{"$f":"H25","v":0},null,null,null,0,null,0,{"$f":"(H37+H38+H39+H40)-(J37+J38+J39+J40)","v":0},{"$f":"(E37-G37)+(E38-G38)+(E39-G39)+(E40-G40)","v":0}]
[null,{"$f":"H23","v":0},":",{"$f":"H17","v":0},{"$f":"G31","v":0},":",{"$f":"E31","v":0},0,":",0]
[null,{"$f":"H23","v":0},null,{"$f":"H19","v":0},{"$f":"G35","v":0},":",{"$f":"E35","v":0},0,":",0]
[null,{"$f":"H23","v":0},null,{"$f":"H21","v":0},{"$f":"G39","v":0},":",{"$f":"E39","v":0},0,":",0]
[null,{"$f":"H23","v":0},null,{"$f":"H25","v":0},null,":",null,0,":",0,{"$f":"(H41+H42+H43+H44)-(J41+J42+J43+J44)","v":0},{"$f":"(E41-G41)+(E42-G42)+(E43-G43)+(E44-G44)","v":0}]
[null,{"$f":"H25","v":0},null,{"$f":"H17","v":0},{"$f":"G32","v":0},":",{"$f":"E32","v":0},0,":",0]
[null,{"$f":"H25","v":0},null,{"$f":"H19","v":0},{"$f":"G36","v":0},":",{"$f":"E36","v":0},0,":",0]
[null,{"$f":"H25","v":0},null,{"$f":"H21","v":0},{"$f":"G40","v":0},":",{"$f":"E40","v":0},0,":",0]
[null,{"$f":"H25","v":0},null,{"$f":"H23","v":0},{"$f":"G44","v":0},":",{"$f":"E44","v":0},0,":",0,{"$f":"(H45+H46+H47+H48)-(J45+J46+J47+J48)","v":0},{"$f":"(E45-G45)+(E46-G46)+(E47-G47)+(E48-G48)","v":0}]
[]
[null,"Ergebnis:",null,null,"Punkte:",null,null,"Treffer:",null,null,"Platz:"]
[]
[null,{"$f":"H17","v":0},null,null,{"$f":"K32","v":0},null,null,{"$f":"L32","v":0},null,null,3]
[]
[null,{"$f":"H19","v":0},null,null,{"$f":"K36","v":0},null,null,{"$f":"L36","v":0},null,null,2]
[]
[null,{"$f":"H21","v":0},null,null,{"$f":"K40","v":0},null,null,{"$f":"L40","v":0},null,null,4]
[]
[null,{"$f":"H23","v":0},null,null,{"$f":"K44","v":0},null,null,{"$f":"L44","v":0}]
[]
[null,{"$f":"H25","v":0},null,null,{"$f":"K48","v":0},null,null,{"$f":"L48","v":0}]